Workbook

Sheet Combined
I1: Combined Income Eligibility Guidelines and Error Prone July 1, 2026 - June 30, 2027
F2: Reduced Price Meals -- 185% | S2: Free Meals -- 130%
B3: Household Size | C3: Annual Error Prone | D3: Annual | E3: Monthly Error Prone | F3: Monthly | G3: Twice-Monthly Error Prone | H3: Twice-Monthly | I3: Bi-weekly Error Prone | J3: Bi-weekly | K3: Weekly Error Prone | L3: Weekly | N3: Household Size | O3: Annual Error Prone | P3: Annual | Q3: Monthly Error Prone | R3: Monthly | S3: Twice-Monthly Error Prone | T3: Twice-Monthly | U3: Bi-weekly Error Prone | V3: Bi-weekly | W3: Weekly Error Prone | X3: Weekly | Y3: Household Size
B4: 1 | C4: =SUM(D4)-1200 -> 28326 | D4: 29526 | E4: =SUM(F4)-100 -> 2361 | F4: 2461 | G4: =SUM(H4)-50 -> 1181 | H4: 1231 | I4: =SUM(J4)-46 -> 1090 | J4: 1136 | K4: =SUM(L4)-23 -> 545 | L4: 568 | N4: 1 | O4: =SUM(P4)-1200 -> 19548 | P4: 20748 | Q4: =SUM(R4)-100 -> 1629 | R4: 1729 | S4: =SUM(T4)-50 -> 815 | T4: 865 | U4: =SUM(V4)-46 -> 752 | V4: 798 | W4: =SUM(X4)-23 -> 376 | X4: 399 | Y4: 1
B5: 2 | C5: =SUM(D5)-1200 -> 38834 | D5: 40034 | E5: =SUM(F5)-100 -> 3237 | F5: 3337 | G5: =SUM(H5)-50 -> 1619 | H5: 1669 | I5: =SUM(J5)-46 -> 1494 | J5: 1540 | K5: =SUM(L5)-23 -> 747 | L5: 770 | N5: 2 | O5: =SUM(P5)-1200 -> 26932 | P5: 28132 | Q5: =SUM(R5)-100 -> 2245 | R5: 2345 | S5: =SUM(T5)-50 -> 1123 | T5: 1173 | U5: =SUM(V5)-46 -> 1036 | V5: 1082 | W5: =SUM(X5)-23 -> 518 | X5: 541 | Y5: 2
B6: 3 | C6: =SUM(D6)-1200 -> 49342 | D6: 50542 | E6: =SUM(F6)-100 -> 4112 | F6: 4212 | G6: =SUM(H6)-50 -> 2056 | H6: 2106 | I6: =SUM(J6)-46 -> 1898 | J6: 1944 | K6: =SUM(L6)-23 -> 949 | L6: 972 | N6: 3 | O6: =SUM(P6)-1200 -> 34316 | P6: 35516 | Q6: =SUM(R6)-100 -> 2860 | R6: 2960 | S6: =SUM(T6)-50 -> 1430 | T6: 1480 | U6: =SUM(V6)-46 -> 1320 | V6: 1366 | W6: =SUM(X6)-23 -> 660 | X6: 683 | Y6: 3
B7: 4 | C7: =SUM(D7)-1200 -> 59850 | D7: 61050 | E7: =SUM(F7)-100 -> 4988 | F7: 5088 | G7: =SUM(H7)-50 -> 2494 | H7: 2544 | I7: =SUM(J7)-46 -> 2303 | J7: 2349 | K7: =SUM(L7)-23 -> 1152 | L7: 1175 | N7: 4 | O7: =SUM(P7)-1200 -> 41700 | P7: 42900 | Q7: =SUM(R7)-100 -> 3475 | R7: 3575 | S7: =SUM(T7)-50 -> 1738 | T7: 1788 | U7: =SUM(V7)-46 -> 1604 | V7: 1650 | W7: =SUM(X7)-23 -> 802 | X7: 825 | Y7: 4
B8: 5 | C8: =SUM(D8)-1200 -> 70358 | D8: 71558 | E8: =SUM(F8)-100 -> 5864 | F8: 5964 | G8: =SUM(H8)-50 -> 2932 | H8: 2982 | I8: =SUM(J8)-46 -> 2707 | J8: 2753 | K8: =SUM(L8)-23 -> 1354 | L8: 1377 | N8: 5 | O8: =SUM(P8)-1200 -> 49084 | P8: 50284 | Q8: =SUM(R8)-100 -> 4091 | R8: 4191 | S8: =SUM(T8)-50 -> 2046 | T8: 2096 | U8: =SUM(V8)-46 -> 1888 | V8: 1934 | W8: =SUM(X8)-23 -> 944 | X8: 967 | Y8: 5
B9: 6 | C9: =SUM(D9)-1200 -> 80866 | D9: 82066 | E9: =SUM(F9)-100 -> 6739 | F9: 6839 | G9: =SUM(H9)-50 -> 3370 | H9: 3420 | I9: =SUM(J9)-46 -> 3111 | J9: 3157 | K9: =SUM(L9)-23 -> 1556 | L9: 1579 | N9: 6 | O9: =SUM(P9)-1200 -> 56468 | P9: 57668 | Q9: =SUM(R9)-100 -> 4706 | R9: 4806 | S9: =SUM(T9)-50 -> 2353 | T9: 2403 | U9: =SUM(V9)-46 -> 2172 | V9: 2218 | W9: =SUM(X9)-23 -> 1086 | X9: 1109 | Y9: 6
B10: 7 | C10: =SUM(D10)-1200 -> 91374 | D10: 92574 | E10: =SUM(F10)-100 -> 7615 | F10: 7715 | G10: =SUM(H10)-50 -> 3808 | H10: 3858 | I10: =SUM(J10)-46 -> 3515 | J10: 3561 | K10: =SUM(L10)-23 -> 1758 | L10: 1781 | N10: 7 | O10: =SUM(P10)-1200 -> 63852 | P10: 65052 | Q10: =SUM(R10)-100 -> 5321 | R10: 5421 | S10: =SUM(T10)-50 -> 2661 | T10: 2711 | U10: =SUM(V10)-46 -> 2456 | V10: 2502 | W10: =SUM(X10)-23 -> 1228 | X10: 1251 | Y10: 7
B11: 8 | C11: =SUM(D11)-1200 -> 101882 | D11: 103082 | E11: =SUM(F11)-100 -> 8491 | F11: 8591 | G11: =SUM(H11)-50 -> 4246 | H11: 4296 | I11: =SUM(J11)-46 -> 3919 | J11: 3965 | K11: =SUM(L11)-23 -> 1960 | L11: 1983 | N11: 8 | O11: =SUM(P11)-1200 -> 71236 | P11: 72436 | Q11: =SUM(R11)-100 -> 5937 | R11: 6037 | S11: =SUM(T11)-50 -> 2969 | T11: 3019 | U11: =SUM(V11)-46 -> 2740 | V11: 2786 | W11: =SUM(X11)-23 -> 1370 | X11: 1393 | Y11: 8
B12: 9 | C12: =SUM(D12)-1200 -> 112390 | D12: =SUM(D11+10508) -> 113590 | E12: =SUM(F12)-100 -> 9367 | F12: =SUM(F11+876) -> 9467 | G12: =SUM(H12)-50 -> 4684 | H12: =SUM(H11+438) -> 4734 | I12: =SUM(J12)-46 -> 4324 | J12: =SUM(J11+405) -> 4370 | K12: =SUM(L12)-23 -> 2163 | L12: =SUM(L11+203) -> 2186 | N12: 9 | O12: =SUM(P12)-1200 -> 78620 | P12: =SUM(P11+7384) -> 79820 | Q12: =SUM(R12)-100 -> 6553 | R12: =SUM(R11+616) -> 6653 | S12: =SUM(T12)-50 -> 3277 | T12: =SUM(T11+308) -> 3327 | U12: =SUM(V12)-46 -> 3024 | V12: =SUM(V11+284) -> 3070 | W12: =SUM(X12)-23 -> 1512 | X12: =SUM(X11+142) -> 1535 | Y12: 9
B13: 10 | C13: =SUM(D13)-1200 -> 122898 | D13: =SUM(D12+10508) -> 124098 | E13: =SUM(F13)-100 -> 10243 | F13: =SUM(F12+876) -> 10343 | G13: =SUM(H13)-50 -> 5122 | H13: =SUM(H12+438) -> 5172 | I13: =SUM(J13)-46 -> 4729 | J13: =SUM(J12+405) -> 4775 | K13: =SUM(L13)-23 -> 2366 | L13: =SUM(L12+203) -> 2389 | N13: 10 | O13: =SUM(P13)-1200 -> 86004 | P13: =SUM(P12+7384) -> 87204 | Q13: =SUM(R13)-100 -> 7169 | R13: =SUM(R12+616) -> 7269 | S13: =SUM(T13)-50 -> 3585 | T13: =SUM(T12+308) -> 3635 | U13: =SUM(V13)-46 -> 3308 | V13: =SUM(V12+284) -> 3354 | W13: =SUM(X13)-23 -> 1654 | X13: =SUM(X12+142) -> 1677 | Y13: 10
B14: 11 | C14: =SUM(D14)-1200 -> 133406 | D14: =SUM(D13+10508) -> 134606 | E14: =SUM(F14)-100 -> 11119 | F14: =SUM(F13+876) -> 11219 | G14: =SUM(H14)-50 -> 5560 | H14: =SUM(H13+438) -> 5610 | I14: =SUM(J14)-46 -> 5134 | J14: =SUM(J13+405) -> 5180 | K14: =SUM(L14)-23 -> 2569 | L14: =SUM(L13+203) -> 2592 | N14: 11 | O14: =SUM(P14)-1200 -> 93388 | P14: =SUM(P13+7384) -> 94588 | Q14: =SUM(R14)-100 -> 7785 | R14: =SUM(R13+616) -> 7885 | S14: =SUM(T14)-50 -> 3893 | T14: =SUM(T13+308) -> 3943 | U14: =SUM(V14)-46 -> 3592 | V14: =SUM(V13+284) -> 3638 | W14: =SUM(X14)-23 -> 1796 | X14: =SUM(X13+142) -> 1819 | Y14: 11
B15: 12 | C15: =SUM(D15)-1200 -> 143914 | D15: =SUM(D14+10508) -> 145114 | E15: =SUM(F15)-100 -> 11995 | F15: =SUM(F14+876) -> 12095 | G15: =SUM(H15)-50 -> 5998 | H15: =SUM(H14+438) -> 6048 | I15: =SUM(J15)-46 -> 5539 | J15: =SUM(J14+405) -> 5585 | K15: =SUM(L15)-23 -> 2772 | L15: =SUM(L14+203) -> 2795 | N15: 12 | O15: =SUM(P15)-1200 -> 100772 | P15: =SUM(P14+7384) -> 101972 | Q15: =SUM(R15)-100 -> 8401 | R15: =SUM(R14+616) -> 8501 | S15: =SUM(T15)-50 -> 4201 | T15: =SUM(T14+308) -> 4251 | U15: =SUM(V15)-46 -> 3876 | V15: =SUM(V14+284) -> 3922 | W15: =SUM(X15)-23 -> 1938 | X15: =SUM(X14+142) -> 1961 | Y15: 12
B16: 13 | C16: =SUM(D16)-1200 -> 154422 | D16: =SUM(D15+10508) -> 155622 | E16: =SUM(F16)-100 -> 12871 | F16: =SUM(F15+876) -> 12971 | G16: =SUM(H16)-50 -> 6436 | H16: =SUM(H15+438) -> 6486 | I16: =SUM(J16)-46 -> 5944 | J16: =SUM(J15+405) -> 5990 | K16: =SUM(L16)-23 -> 2975 | L16: =SUM(L15+203) -> 2998 | N16: 13 | O16: =SUM(P16)-1200 -> 108156 | P16: =SUM(P15+7384) -> 109356 | Q16: =SUM(R16)-100 -> 9017 | R16: =SUM(R15+616) -> 9117 | S16: =SUM(T16)-50 -> 4509 | T16: =SUM(T15+308) -> 4559 | U16: =SUM(V16)-46 -> 4160 | V16: =SUM(V15+284) -> 4206 | W16: =SUM(X16)-23 -> 2080 | X16: =SUM(X15+142) -> 2103 | Y16: 13
B17: 14 | C17: =SUM(D17)-1200 -> 164930 | D17: =SUM(D16+10508) -> 166130 | E17: =SUM(F17)-100 -> 13747 | F17: =SUM(F16+876) -> 13847 | G17: =SUM(H17)-50 -> 6874 | H17: =SUM(H16+438) -> 6924 | I17: =SUM(J17)-46 -> 6349 | J17: =SUM(J16+405) -> 6395 | K17: =SUM(L17)-23 -> 3178 | L17: =SUM(L16+203) -> 3201 | N17: 14 | O17: =SUM(P17)-1200 -> 115540 | P17: =SUM(P16+7384) -> 116740 | Q17: =SUM(R17)-100 -> 9633 | R17: =SUM(R16+616) -> 9733 | S17: =SUM(T17)-50 -> 4817 | T17: =SUM(T16+308) -> 4867 | U17: =SUM(V17)-46 -> 4444 | V17: =SUM(V16+284) -> 4490 | W17: =SUM(X17)-23 -> 2222 | X17: =SUM(X16+142) -> 2245 | Y17: 14
B18: 15 | C18: =SUM(D18)-1200 -> 175438 | D18: =SUM(D17+10508) -> 176638 | E18: =SUM(F18)-100 -> 14623 | F18: =SUM(F17+876) -> 14723 | G18: =SUM(H18)-50 -> 7312 | H18: =SUM(H17+438) -> 7362 | I18: =SUM(J18)-46 -> 6754 | J18: =SUM(J17+405) -> 6800 | K18: =SUM(L18)-23 -> 3381 | L18: =SUM(L17+203) -> 3404 | N18: 15 | O18: =SUM(P18)-1200 -> 122924 | P18: =SUM(P17+7384) -> 124124 | Q18: =SUM(R18)-100 -> 10249 | R18: =SUM(R17+616) -> 10349 | S18: =SUM(T18)-50 -> 5125 | T18: =SUM(T17+308) -> 5175 | U18: =SUM(V18)-46 -> 4728 | V18: =SUM(V17+284) -> 4774 | W18: =SUM(X18)-23 -> 2364 | X18: =SUM(X17+142) -> 2387 | Y18: 15
B19: 16 | C19: =SUM(D19)-1200 -> 185946 | D19: =SUM(D18+10508) -> 187146 | E19: =SUM(F19)-100 -> 15499 | F19: =SUM(F18+876) -> 15599 | G19: =SUM(H19)-50 -> 7750 | H19: =SUM(H18+438) -> 7800 | I19: =SUM(J19)-46 -> 7159 | J19: =SUM(J18+405) -> 7205 | K19: =SUM(L19)-23 -> 3584 | L19: =SUM(L18+203) -> 3607 | N19: 16 | O19: =SUM(P19)-1200 -> 130308 | P19: =SUM(P18+7384) -> 131508 | Q19: =SUM(R19)-100 -> 10865 | R19: =SUM(R18+616) -> 10965 | S19: =SUM(T19)-50 -> 5433 | T19: =SUM(T18+308) -> 5483 | U19: =SUM(V19)-46 -> 5012 | V19: =SUM(V18+284) -> 5058 | W19: =SUM(X19)-23 -> 2506 | X19: =SUM(X18+142) -> 2529 | Y19: 16
B20: 17 | C20: =SUM(D20)-1200 -> 196454 | D20: =SUM(D19+10508) -> 197654 | E20: =SUM(F20)-100 -> 16375 | F20: =SUM(F19+876) -> 16475 | G20: =SUM(H20)-50 -> 8188 | H20: =SUM(H19+438) -> 8238 | I20: =SUM(J20)-46 -> 7564 | J20: =SUM(J19+405) -> 7610 | K20: =SUM(L20)-23 -> 3787 | L20: =SUM(L19+203) -> 3810 | N20: 17 | O20: =SUM(P20)-1200 -> 137692 | P20: =SUM(P19+7384) -> 138892 | Q20: =SUM(R20)-100 -> 11481 | R20: =SUM(R19+616) -> 11581 | S20: =SUM(T20)-50 -> 5741 | T20: =SUM(T19+308) -> 5791 | U20: =SUM(V20)-46 -> 5296 | V20: =SUM(V19+284) -> 5342 | W20: =SUM(X20)-23 -> 2648 | X20: =SUM(X19+142) -> 2671 | Y20: 17
B21: 18 | C21: =SUM(D21)-1200 -> 206962 | D21: =SUM(D20+10508) -> 208162 | E21: =SUM(F21)-100 -> 17251 | F21: =SUM(F20+876) -> 17351 | G21: =SUM(H21)-50 -> 8626 | H21: =SUM(H20+438) -> 8676 | I21: =SUM(J21)-46 -> 7969 | J21: =SUM(J20+405) -> 8015 | K21: =SUM(L21)-23 -> 3990 | L21: =SUM(L20+203) -> 4013 | N21: 18 | O21: =SUM(P21)-1200 -> 145076 | P21: =SUM(P20+7384) -> 146276 | Q21: =SUM(R21)-100 -> 12097 | R21: =SUM(R20+616) -> 12197 | S21: =SUM(T21)-50 -> 6049 | T21: =SUM(T20+308) -> 6099 | U21: =SUM(V21)-46 -> 5580 | V21: =SUM(V20+284) -> 5626 | W21: =SUM(X21)-23 -> 2790 | X21: =SUM(X20+142) -> 2813 | Y21: 18
B22: 19 | C22: =SUM(D22)-1200 -> 217470 | D22: =SUM(D21+10508) -> 218670 | E22: =SUM(F22)-100 -> 18127 | F22: =SUM(F21+876) -> 18227 | G22: =SUM(H22)-50 -> 9064 | H22: =SUM(H21+438) -> 9114 | I22: =SUM(J22)-46 -> 8374 | J22: =SUM(J21+405) -> 8420 | K22: =SUM(L22)-23 -> 4193 | L22: =SUM(L21+203) -> 4216 | N22: 19 | O22: =SUM(P22)-1200 -> 152460 | P22: =SUM(P21+7384) -> 153660 | Q22: =SUM(R22)-100 -> 12713 | R22: =SUM(R21+616) -> 12813 | S22: =SUM(T22)-50 -> 6357 | T22: =SUM(T21+308) -> 6407 | U22: =SUM(V22)-46 -> 5864 | V22: =SUM(V21+284) -> 5910 | W22: =SUM(X22)-23 -> 2932 | X22: =SUM(X21+142) -> 2955 | Y22: 19
B23: 20 | C23: =SUM(D23)-1200 -> 227978 | D23: =SUM(D22+10508) -> 229178 | E23: =SUM(F23)-100 -> 19003 | F23: =SUM(F22+876) -> 19103 | G23: =SUM(H23)-50 -> 9502 | H23: =SUM(H22+438) -> 9552 | I23: =SUM(J23)-46 -> 8779 | J23: =SUM(J22+405) -> 8825 | K23: =SUM(L23)-23 -> 4396 | L23: =SUM(L22+203) -> 4419 | N23: 20 | O23: =SUM(P23)-1200 -> 159844 | P23: =SUM(P22+7384) -> 161044 | Q23: =SUM(R23)-100 -> 13329 | R23: =SUM(R22+616) -> 13429 | S23: =SUM(T23)-50 -> 6665 | T23: =SUM(T22+308) -> 6715 | U23: =SUM(V23)-46 -> 6148 | V23: =SUM(V22+284) -> 6194 | W23: =SUM(X23)-23 -> 3074 | X23: =SUM(X22+142) -> 3097 | Y23: 20
B24: For each additional family member add | C24: 1200 | D24: 10508 | E24: 100 | F24: 876 | G24: 50 | H24: 438 | I24: 46 | J24: 405 | K24: 23 | L24: 203 | N24: For each additional family member add | O24: 1200 | P24: 7384 | Q24: 100 | R24: 616 | S24: 50 | T24: 308 | U24: 46 | V24: 284 | W24: 23 | X24: 142 | Y24: For each additional family member add
D25: Annual | F25: Error prone applications are those applications where income falls between the income eligibility limits and $1200 of the income eligibility limits for Yearly.
D27: Monthly | F27: Error prone applications are those applications where income falls between the income eligibility limits and $100 of the income eligibility limits for Monthly.
C29: Error Prone | D29: Twice Per Month | F29: Error prone applications are those applications where income falls between the income eligibility limits and $50 of the income eligibility limits for Twice per Month.
C30: Applications | F30: Calculated using $1200/24 payments, round to the nearest whole dollar with standard rounding rules.
D31: Every 2 Weeks | F31: Error prone applications are those applications where income falls between the income eligibility limits and $46 of the income eligibility limits for Every 2 weeks.
F32: Calculated using $1200/26 payments, round to the nearest whole dollar with standard rounding rules.
D33: Weekly | F33: Error prone applications are those applications where income falls between the income eligibility limits and $23 of the income eligibility limits for Weekly.
F34: Calculated using $1200/52 payments, round to the nearest whole dollar with standard rounding rules.
Q36: Error Prone and Non Error Prone Examples
Q37: Example 1:
Q38: Application income listed is $43,285 annually for a household size of 3.
Q39: This household is eligible for reduced-price meals. This application is not error prone.
B40: Household Size | C40: Annual Error Prone | D40: Annual | E40: Monthly Error Prone | F40: Monthly | G40: Twice-Monthly Error Prone | H40: Twice-Monthly | I40: Bi-weekly Error Prone | J40: Bi-weekly | K40: Weekly Error Prone | L40: Weekly | Q40: The income falls outside of the error prone range of $49,342 to $50,542.
Q42: Example 2:
Q43: Application income listed is $34,510 annually for a household size of 3.
Q44: This household is eligible for free meals. This application is error prone.
...

Sheet Error Prone
G1: Error Prone July 1, 2026 - June 30, 2027
F2: Error-Prone Chart for FREE Eligibility Applications July 1, 2026 - June 30, 2027
H3: How Often Income Was Received
B4: Family Size
C5: Annual Error Prone | F5: Monthly Error Prone | I5: Twice Per Month Error Prone | L5: Every Other Week Error Prone | O5: Weekly Error Prone
B7: 1 | C7: =SUM(E7-1200) -> 19548 | D7: to | E7: =Combined!P4 -> 20748 | F7: =SUM(H7)-100 -> 1629 | G7: to | H7: =Combined!R4 -> 1729 | I7: =SUM(K7)-50 -> 815 | J7: to | K7: =Combined!T4 -> 865 | L7: =SUM(N7)-46 -> 752 | M7: to | N7: =Combined!V4 -> 798 | O7: =SUM(Q7)-23 -> 376 | P7: to | Q7: =Combined!X4 -> 399
B8: 2 | C8: =SUM(E8-1200) -> 26932 | D8: to | E8: =Combined!P5 -> 28132 | F8: =SUM(H8)-100 -> 2245 | G8: to | H8: =Combined!R5 -> 2345 | I8: =SUM(K8)-50 -> 1123 | J8: to | K8: =Combined!T5 -> 1173 | L8: =SUM(N8)-46 -> 1036 | M8: to | N8: =Combined!V5 -> 1082 | O8: =SUM(Q8)-23 -> 518 | P8: to | Q8: =Combined!X5 -> 541
B9: 3 | C9: =SUM(E9-1200) -> 34316 | D9: to | E9: =Combined!P6 -> 35516 | F9: =SUM(H9)-100 -> 2860 | G9: to | H9: =Combined!R6 -> 2960 | I9: =SUM(K9)-50 -> 1430 | J9: to | K9: =Combined!T6 -> 1480 | L9: =SUM(N9)-46 -> 1320 | M9: to | N9: =Combined!V6 -> 1366 | O9: =SUM(Q9)-23 -> 660 | P9: to | Q9: =Combined!X6 -> 683
B10: 4 | C10: =SUM(E10-1200) -> 41700 | D10: to | E10: =Combined!P7 -> 42900 | F10: =SUM(H10)-100 -> 3475 | G10: to | H10: =Combined!R7 -> 3575 | I10: =SUM(K10)-50 -> 1738 | J10: to | K10: =Combined!T7 -> 1788 | L10: =SUM(N10)-46 -> 1604 | M10: to | N10: =Combined!V7 -> 1650 | O10: =SUM(Q10)-23 -> 802 | P10: to | Q10: =Combined!X7 -> 825
B11: 5 | C11: =SUM(E11-1200) -> 49084 | D11: to | E11: =Combined!P8 -> 50284 | F11: =SUM(H11)-100 -> 4091 | G11: to | H11: =Combined!R8 -> 4191 | I11: =SUM(K11)-50 -> 2046 | J11: to | K11: =Combined!T8 -> 2096 | L11: =SUM(N11)-46 -> 1888 | M11: to | N11: =Combined!V8 -> 1934 | O11: =SUM(Q11)-23 -> 944 | P11: to | Q11: =Combined!X8 -> 967
B12: 6 | C12: =SUM(E12-1200) -> 56468 | D12: to | E12: =Combined!P9 -> 57668 | F12: =SUM(H12)-100 -> 4706 | G12: to | H12: =Combined!R9 -> 4806 | I12: =SUM(K12)-50 -> 2353 | J12: to | K12: =Combined!T9 -> 2403 | L12: =SUM(N12)-46 -> 2172 | M12: to | N12: =Combined!V9 -> 2218 | O12: =SUM(Q12)-23 -> 1086 | P12: to | Q12: =Combined!X9 -> 1109
B13: 7 | C13: =SUM(E13-1200) -> 63852 | D13: to | E13: =Combined!P10 -> 65052 | F13: =SUM(H13)-100 -> 5321 | G13: to | H13: =Combined!R10 -> 5421 | I13: =SUM(K13)-50 -> 2661 | J13: to | K13: =Combined!T10 -> 2711 | L13: =SUM(N13)-46 -> 2456 | M13: to | N13: =Combined!V10 -> 2502 | O13: =SUM(Q13)-23 -> 1228 | P13: to | Q13: =Combined!X10 -> 1251
B14: 8 | C14: =SUM(E14-1200) -> 71236 | D14: to | E14: =Combined!P11 -> 72436 | F14: =SUM(H14)-100 -> 5937 | G14: to | H14: =Combined!R11 -> 6037 | I14: =SUM(K14)-50 -> 2969 | J14: to | K14: =Combined!T11 -> 3019 | L14: =SUM(N14)-46 -> 2740 | M14: to | N14: =Combined!V11 -> 2786 | O14: =SUM(Q14)-23 -> 1370 | P14: to | Q14: =Combined!X11 -> 1393
F16: Error-Prone Chart for REDUCED-PRICE Eligibility Applications July 1, 2026 - June 30, 2027
I17: How Often Income Was Received
B18: Family Size
E19: Annually Error-Prone | G19: Monthly Error-Prone | I19: Twice Per Month Error-Prone | M19: Every Other Week Error-Prone | P19: Weekly Error-Prone
B21: 1 | C21: =SUM(E21)-1200 -> 28326 | D21: to | E21: =Combined!D4 -> 29526 | F21: =SUM(H21)-100 -> 2361 | G21: to | H21: =Combined!F4 -> 2461 | I21: =SUM(K21)-50 -> 1181 | J21: to | K21: =Combined!H4 -> 1231 | L21: =SUM(N21)-46 -> 1090 | M21: to | N21: =Combined!J4 -> 1136 | O21: =SUM(Q21)-23 -> 545 | P21: to | Q21: =Combined!L4 -> 568
B22: 2 | C22: =SUM(E22)-1200 -> 38834 | D22: to | E22: =Combined!D5 -> 40034 | F22: =SUM(H22)-100 -> 3237 | G22: to | H22: =Combined!F5 -> 3337 | I22: =SUM(K22)-50 -> 1619 | J22: to | K22: =Combined!H5 -> 1669 | L22: =SUM(N22)-46 -> 1494 | M22: to | N22: =Combined!J5 -> 1540 | O22: =SUM(Q22)-23 -> 747 | P22: to | Q22: =Combined!L5 -> 770
B23: 3 | C23: =SUM(E23)-1200 -> 49342 | D23: to | E23: =Combined!D6 -> 50542 | F23: =SUM(H23)-100 -> 4112 | G23: to | H23: =Combined!F6 -> 4212 | I23: =SUM(K23)-50 -> 2056 | J23: to | K23: =Combined!H6 -> 2106 | L23: =SUM(N23)-46 -> 1898 | M23: to | N23: =Combined!J6 -> 1944 | O23: =SUM(Q23)-23 -> 949 | P23: to | Q23: =Combined!L6 -> 972
B24: 4 | C24: =SUM(E24)-1200 -> 59850 | D24: to | E24: =Combined!D7 -> 61050 | F24: =SUM(H24)-100 -> 4988 | G24: to | H24: =Combined!F7 -> 5088 | I24: =SUM(K24)-50 -> 2494 | J24: to | K24: =Combined!H7 -> 2544 | L24: =SUM(N24)-46 -> 2303 | M24: to | N24: =Combined!J7 -> 2349 | O24: =SUM(Q24)-23 -> 1152 | P24: to | Q24: =Combined!L7 -> 1175
B25: 5 | C25: =SUM(E25)-1200 -> 70358 | D25: to | E25: =Combined!D8 -> 71558 | F25: =SUM(H25)-100 -> 5864 | G25: to | H25: =Combined!F8 -> 5964 | I25: =SUM(K25)-50 -> 2932 | J25: to | K25: =Combined!H8 -> 2982 | L25: =SUM(N25)-46 -> 2707 | M25: to | N25: =Combined!J8 -> 2753 | O25: =SUM(Q25)-23 -> 1354 | P25: to | Q25: =Combined!L8 -> 1377
B26: 6 | C26: =SUM(E26)-1200 -> 80866 | D26: to | E26: =Combined!D9 -> 82066 | F26: =SUM(H26)-100 -> 6739 | G26: to | H26: =Combined!F9 -> 6839 | I26: =SUM(K26)-50 -> 3370 | J26: to | K26: =Combined!H9 -> 3420 | L26: =SUM(N26)-46 -> 3111 | M26: to | N26: =Combined!J9 -> 3157 | O26: =SUM(Q26)-23 -> 1556 | P26: to | Q26: =Combined!L9 -> 1579
B27: 7 | C27: =SUM(E27)-1200 -> 91374 | D27: to | E27: =Combined!D10 -> 92574 | F27: =SUM(H27)-100 -> 7615 | G27: to | H27: =Combined!F10 -> 7715 | I27: =SUM(K27)-50 -> 3808 | J27: to | K27: =Combined!H10 -> 3858 | L27: =SUM(N27)-46 -> 3515 | M27: to | N27: =Combined!J10 -> 3561 | O27: =SUM(Q27)-23 -> 1758 | P27: to | Q27: =Combined!L10 -> 1781
B28: 8 | C28: =SUM(E28)-1200 -> 101882 | D28: to | E28: =Combined!D11 -> 103082 | F28: =SUM(H28)-100 -> 8491 | G28: to | H28: =Combined!F11 -> 8591 | I28: =SUM(K28)-50 -> 4246 | J28: to | K28: =Combined!H11 -> 4296 | L28: =SUM(N28)-46 -> 3919 | M28: to | N28: =Combined!J11 -> 3965 | O28: =SUM(Q28)-23 -> 1960 | P28: to | Q28: =Combined!L11 -> 1983
E30: Annually | F30: Error-prone applications are those applications where income falls between the income eligibility limits and $1200
F31: of the income eligibilty limits for Yearly.
E32: Monthly | F32: Error-prone applications are those applications where income falls between the income eligibility limits and $100
F33: of the income eligibilty limits for Monthly.
E34: Twice Per Mth | F34: Error prone applications are those applications where income falls between the income eligibility limits and $50
F35: of the income eligibility limits for Twice per Month.
C36: Error-Prone Applications | F36: Calculated using $1200/24 payments, round to the nearest whole dollar with standard rounding rules.
E37: Every 2 Weeks | F37: Error prone applications are those applications where income falls between the income eligibility limits and $46
F38: of the income eligibility limits for Every 2 weeks.
F39: Calculated using $1200/26 payments, round to the nearest whole dollar with standard rounding rules.
E40: Weekly | F40: Error prone applications are those applications where income falls between the income eligibility limits and $23
F41: of the income eligibility limits for Weekly.
F42: Calculated using $1200/52 payments, round to the nearest whole dollar with standard rounding rules.
O44: Last Revised May 13, 2026

Sheet Income Eligibility Guidelines
D1: Income Eligibility Guidelines July 1, 2026 to June 30, 2027
B2: Household Size | E2: Reduced price meals -- 185% | J2: Free meals -- 130%
C3: Annual | D3: Monthly | E3: Twice- Monthly | F3: Bi-weekly | G3: Weekly | H3: Annual | I3: Monthly | J3: Twice- Monthly | K3: Bi-weekly | L3: Weekly
B4: 1 | C4: =Combined!D4 -> 29526 | D4: =Combined!F4 -> 2461 | E4: =Combined!H4 -> 1231 | F4: =Combined!J4 -> 1136 | G4: =Combined!L4 -> 568 | H4: =Combined!P4 -> 20748 | I4: =Combined!R4 -> 1729 | J4: =Combined!T4 -> 865 | K4: =Combined!V4 -> 798 | L4: =Combined!X4 -> 399
B5: 2 | C5: =Combined!D5 -> 40034 | D5: =Combined!F5 -> 3337 | E5: =Combined!H5 -> 1669 | F5: =Combined!J5 -> 1540 | G5: =Combined!L5 -> 770 | H5: =Combined!P5 -> 28132 | I5: =Combined!R5 -> 2345 | J5: =Combined!T5 -> 1173 | K5: =Combined!V5 -> 1082 | L5: =Combined!X5 -> 541
B6: 3 | C6: =Combined!D6 -> 50542 | D6: =Combined!F6 -> 4212 | E6: =Combined!H6 -> 2106 | F6: =Combined!J6 -> 1944 | G6: =Combined!L6 -> 972 | H6: =Combined!P6 -> 35516 | I6: =Combined!R6 -> 2960 | J6: =Combined!T6 -> 1480 | K6: =Combined!V6 -> 1366 | L6: =Combined!X6 -> 683
B7: 4 | C7: =Combined!D7 -> 61050 | D7: =Combined!F7 -> 5088 | E7: =Combined!H7 -> 2544 | F7: =Combined!J7 -> 2349 | G7: =Combined!L7 -> 1175 | H7: =Combined!P7 -> 42900 | I7: =Combined!R7 -> 3575 | J7: =Combined!T7 -> 1788 | K7: =Combined!V7 -> 1650 | L7: =Combined!X7 -> 825
B8: 5 | C8: =Combined!D8 -> 71558 | D8: =Combined!F8 -> 5964 | E8: =Combined!H8 -> 2982 | F8: =Combined!J8 -> 2753 | G8: =Combined!L8 -> 1377 | H8: =Combined!P8 -> 50284 | I8: =Combined!R8 -> 4191 | J8: =Combined!T8 -> 2096 | K8: =Combined!V8 -> 1934 | L8: =Combined!X8 -> 967
B9: 6 | C9: =Combined!D9 -> 82066 | D9: =Combined!F9 -> 6839 | E9: =Combined!H9 -> 3420 | F9: =Combined!J9 -> 3157 | G9: =Combined!L9 -> 1579 | H9: =Combined!P9 -> 57668 | I9: =Combined!R9 -> 4806 | J9: =Combined!T9 -> 2403 | K9: =Combined!V9 -> 2218 | L9: =Combined!X9 -> 1109
B10: 7 | C10: =Combined!D10 -> 92574 | D10: =Combined!F10 -> 7715 | E10: =Combined!H10 -> 3858 | F10: =Combined!J10 -> 3561 | G10: =Combined!L10 -> 1781 | H10: =Combined!P10 -> 65052 | I10: =Combined!R10 -> 5421 | J10: =Combined!T10 -> 2711 | K10: =Combined!V10 -> 2502 | L10: =Combined!X10 -> 1251
B11: 8 | C11: =Combined!D11 -> 103082 | D11: =Combined!F11 -> 8591 | E11: =Combined!H11 -> 4296 | F11: =Combined!J11 -> 3965 | G11: =Combined!L11 -> 1983 | H11: =Combined!P11 -> 72436 | I11: =Combined!R11 -> 6037 | J11: =Combined!T11 -> 3019 | K11: =Combined!V11 -> 2786 | L11: =Combined!X11 -> 1393
B12: 9 | C12: =Combined!D12 -> 113590 | D12: =Combined!F12 -> 9467 | E12: =Combined!H12 -> 4734 | F12: =Combined!J12 -> 4370 | G12: =Combined!L12 -> 2186 | H12: =Combined!P12 -> 79820 | I12: =Combined!R12 -> 6653 | J12: =Combined!T12 -> 3327 | K12: =Combined!V12 -> 3070 | L12: =Combined!X12 -> 1535
B13: 10 | C13: =Combined!D13 -> 124098 | D13: =Combined!F13 -> 10343 | E13: =Combined!H13 -> 5172 | F13: =Combined!J13 -> 4775 | G13: =Combined!L13 -> 2389 | H13: =Combined!P13 -> 87204 | I13: =Combined!R13 -> 7269 | J13: =Combined!T13 -> 3635 | K13: =Combined!V13 -> 3354 | L13: =Combined!X13 -> 1677
B14: 11 | C14: =Combined!D14 -> 134606 | D14: =Combined!F14 -> 11219 | E14: =Combined!H14 -> 5610 | F14: =Combined!J14 -> 5180 | G14: =Combined!L14 -> 2592 | H14: =Combined!P14 -> 94588 | I14: =Combined!R14 -> 7885 | J14: =Combined!T14 -> 3943 | K14: =Combined!V14 -> 3638 | L14: =Combined!X14 -> 1819
B15: 12 | C15: =Combined!D15 -> 145114 | D15: =Combined!F15 -> 12095 | E15: =Combined!H15 -> 6048 | F15: =Combined!J15 -> 5585 | G15: =Combined!L15 -> 2795 | H15: =Combined!P15 -> 101972 | I15: =Combined!R15 -> 8501 | J15: =Combined!T15 -> 4251 | K15: =Combined!V15 -> 3922 | L15: =Combined!X15 -> 1961
... B23: 20 | C23: =Combined!D23 -> 229178 | D23: =Combined!F23 -> 19103 | E23: =Combined!H23 -> 9552 | F23: =Combined!J23 -> 8825 | G23: =Combined!L23 -> 4419 | H23: =Combined!P23 -> 161044 | I23: =Combined!R23 -> 13429 | J23: =Combined!T23 -> 6715 | K23: =Combined!V23 -> 6194 | L23: =Combined!X23 -> 3097
B24: For each additional family member add | C24: 10508 | D24: 876 | E24: 438 | F24: 405 | G24: 203 | H24: 7384 | I24: 616 | J24: 308 | K24: 284 | L24: 142
B25: Twice-monthly is twice per month
B26: Bi-weekly is every two weeks, every other week
K27: Last Revised: May 13, 2026
